BEGIN:VCALENDAR
VERSION:2.0
PRODID:-//ChurchDev//Events//EN
CALSCALE:GREGORIAN
METHOD:PUBLISH
BEGIN:VEVENT
UID:3138-20250105@www.biblebelievers805.com
SUMMARY:Tip of the Spear Public Ministry
DTSTART:20250105T210000Z
DTEND:20250105T220000Z
DESCRIPTION:You never know where you might find us out in the community sharing the gospel. But say Hi if you do!\\n\\nhttps://www.biblebelievers805.com/events/tip-of-the-spear-public-ministry-2/
LOCATION:206 5th St Templeton\, CA
URL:https://www.biblebelievers805.com/events/tip-of-the-spear-public-ministry-2/
DTSTAMP:20260420T040531Z
END:VEVENT
END:VCALENDAR
