BEGIN:VCALENDAR
VERSION:2.0
PRODID:-//ChurchDev//Events//EN
CALSCALE:GREGORIAN
METHOD:PUBLISH
BEGIN:VEVENT
UID:3295-20250902@www.biblebelievers805.com
SUMMARY:Women of the Remnant Bible Study
DTSTART:20250903T013000Z
DTEND:20250903T033000Z
DESCRIPTION:A women&#8217\;s weekly Bible study conducted on Google Meet\; hosted by Pastor Vincent&#8217\;s wife\, Calli.\\nPlease contact us for further information.\\n\\nhttps://www.biblebelievers805.com/events/women-of-the-remnant-bible-study/
LOCATION:206 5th St Templeton\, CA
URL:https://www.biblebelievers805.com/events/women-of-the-remnant-bible-study/
DTSTAMP:20260420T035221Z
END:VEVENT
END:VCALENDAR
