BEGIN:VCALENDAR
VERSION:2.0
PRODID:-//ChurchDev//Events//EN
CALSCALE:GREGORIAN
METHOD:PUBLISH
BEGIN:VEVENT
UID:3377-20260103@www.biblebelievers805.com
SUMMARY:Templeton Farmers Market Gospel Table
DTSTART:20260103T173000Z
DTEND:20260103T183000Z
DESCRIPTION:https://www.biblebelievers805.com/events/templeton-farmers-market-gospel-table/
LOCATION:206 5th St Templeton\, CA
URL:https://www.biblebelievers805.com/events/templeton-farmers-market-gospel-table/
DTSTAMP:20260422T113452Z
END:VEVENT
END:VCALENDAR
